BEGIN:VCALENDAR
PRODID:-//eluceo/ical//2.0/EN
VERSION:2.0
CALSCALE:GREGORIAN
BEGIN:VEVENT
UID:2f44d61c211a759a354a68e4a6cafed9
DTSTAMP:20260419T124550Z
SUMMARY:YJC Tikkun Olam Event
DESCRIPTION:Charleston Jewish Federation\nJewish Community Calendar\nhttps:
 //jewishcharleston.org/event-calendar/yjc-tikkun-olam-event-1737569780\n\n
 This is for YJC people who have either donated blood through Red Cross or 
 have made a meaningful donation to help those in LA affected by the wildfi
 res.
DTSTART;TZID=America/New_York:20250216T170000
DTEND;TZID=America/New_York:20250216T190000
END:VEVENT
END:VCALENDAR
