BEGIN:VCALENDAR
PRODID:-//eluceo/ical//2.0/EN
VERSION:2.0
CALSCALE:GREGORIAN
BEGIN:VEVENT
UID:25d266e472d0436c3e67a571763802ec
DTSTAMP:20260423T192516Z
SUMMARY:YJC Shabbat Dinner
DESCRIPTION:Charleston Jewish Federation\nJewish Community Calendar\nhttps:
 //jewishcharleston.org/event-calendar/yjc-shabbat-dinner\n\nMore details c
 oming soon. 
DTSTART;TZID=America/New_York:20230714T190000
DTEND;TZID=America/New_York:20230714T210000
END:VEVENT
END:VCALENDAR
