BEGIN:VCALENDAR
PRODID:-//eluceo/ical//2.0/EN
VERSION:2.0
CALSCALE:GREGORIAN
BEGIN:VEVENT
UID:0165af94d024a17e788e44b3f1e4551e
DTSTAMP:20260423T232329Z
SUMMARY:YJC Kayaking and Beach Clean Up
DESCRIPTION:Charleston Jewish Federation\nJewish Community Calendar\nhttps:
 //jewishcharleston.org/event-calendar/yjc-kayaking-and-beach-clean-up\n\nM
 ore details coming soon. Contact Erin Boynton (ErinB@jewishcharleston.org)
  if you have questions. 
DTSTART;TZID=America/New_York:20230625T000000
DTEND;TZID=America/New_York:20230625T235959
END:VEVENT
END:VCALENDAR
