BEGIN:VCALENDAR
PRODID:-//eluceo/ical//2.0/EN
VERSION:2.0
CALSCALE:GREGORIAN
BEGIN:VEVENT
UID:2c7425cffe70b667d75ee380308747a9
DTSTAMP:20260426T033517Z
SUMMARY:YJC Israeli Dancing and Havdalah
DESCRIPTION:Charleston Jewish Federation\nJewish Community Calendar\nhttps:
 //jewishcharleston.org/event-calendar/yjc-israeli-dancing-and-havdalah\n\n
 We are thrilled to invite you to an exciting Israeli folk dancing event t
 hat is taking place at KKBE (90 Hasell St\, Charleston\, SC 29401) this Sa
 turday\, March 18th at 7:45 PM. This event will be a great opportunity for
  you to connect with your culture\, meet new people and make new friends.
  \n\nBut that&#39\;s not all - we&#39\;ll also have delicious food and dr
 inks to enjoy throughout the evening. We will have some Israeli style appe
 tizers from Butcher and Bee along with a variety of drinks to share...
DTSTART;TZID=America/New_York:20230318T194500
DTEND;TZID=America/New_York:20230318T220000
END:VEVENT
END:VCALENDAR
