BEGIN:VCALENDAR
PRODID:-//eluceo/ical//2.0/EN
VERSION:2.0
CALSCALE:GREGORIAN
BEGIN:VEVENT
UID:004bbab182563e1c4a68b249f4c32a50
DTSTAMP:20260422T135231Z
SUMMARY:Volunteer Opportunity: Reading Partners Jewish Community Info Sessi
 on 2023
DESCRIPTION:Charleston Jewish Federation\nJewish Community Calendar\nhttps:
 //jewishcharleston.org/event-calendar/volunteer-opportunity-reading-partne
 rs-jewish-community-info-session-2023\n\nJoin other members of our Jewish 
 community in volunteering to be Reading Partners! Learn more and sign up 
 at an informational and onboarding session Wednesday\, August 17th at 6pm
  on Zoom.\n\n\n\n\n\n\nInterested in making a difference from the comfort
  of your home? Charleston County&#39\;s school kids need your help! Come l
 earn more at a virtual group onboarding session on Monday\, August 14th at
  6 pm on Zoom. Register at www.jewishcharleston.org/reading
DTSTART;TZID=America/New_York:20230814T180000
DTEND;TZID=America/New_York:20230814T190000
END:VEVENT
END:VCALENDAR
