BEGIN:VCALENDAR
PRODID:-//eluceo/ical//2.0/EN
VERSION:2.0
CALSCALE:GREGORIAN
BEGIN:VEVENT
UID:d4e1c370027da2fe5f4b7e5c9bb24936
DTSTAMP:20260423T204315Z
SUMMARY:Volunteer: JCRC Fresh Food Distribution
DESCRIPTION:Charleston Jewish Federation\nJewish Community Calendar\nhttps:
 //jewishcharleston.org/event-calendar/volunteer-jcrc-fresh-food-distributi
 on-523\n\nAs part of the Jewish Communal Response to Hunger\, the Jewish 
 Community Relations Council of Greater Charleston collaborates with Lowcou
 ntry Food Bank\, grassroots neighborhood organizations\, and our local syn
 agogues to bring fresh\, healthy food where it&#39\;s needed the most. We&
 #39\;ve zeroed in on Lowcountry "Food Deserts\," or areas without easy acc
 ess to fresh food.\n\nOn Thursday\, April 20th\, we are partnering with Co
 ncerned Citizens of Peninsula and the Lowcountry\, a neighborhood group\,
  to dist...
DTSTART;TZID=America/New_York:20230518T143000
DTEND;TZID=America/New_York:20230518T170000
END:VEVENT
END:VCALENDAR
