BEGIN:VCALENDAR
PRODID:-//eluceo/ical//2.0/EN
VERSION:2.0
CALSCALE:GREGORIAN
BEGIN:VEVENT
UID:dee8fe522c4cb392c8c0e5e216b130e3
DTSTAMP:20260423T222121Z
SUMMARY:The Woman Behind The Pin: Lion of Judah Brunch
DESCRIPTION:Charleston Jewish Federation\nJewish Community Calendar\nhttps:
 //jewishcharleston.org/event-calendar/the-woman-behind-the-pin-lion-of-jud
 ah-brunch\n\nThe Lion of Judah is a symbol of today’s Jewish woman’s s
 trength\, her commitment to the organized Jewish world\, and her financial
  contribution of at least $5\,000 to the Annual Campaign. Dozens of women 
 in greater Charleston join more than 18\,000 women world-wide as Lions of 
 Judah.\n\nCJF&#39\;s Annual Lion of Judah Program is by invitation only.\n
 \nTo learn more about this event and our Lion of Judah Giving Society\, p
 lease contact Rebecca Engel at 843-614-6484 or RebeccaL@jewishcharleston.o
 rg...
DTSTART;TZID=America/New_York:20230507T103000
DTEND;TZID=America/New_York:20230507T123000
END:VEVENT
END:VCALENDAR
