BEGIN:VCALENDAR
PRODID:-//eluceo/ical//2.0/EN
VERSION:2.0
CALSCALE:GREGORIAN
BEGIN:VEVENT
UID:5e847d2ea3ef3620c11e211c96748a06
DTSTAMP:20260421T063921Z
SUMMARY:The Shabbat Project at BSBI
DESCRIPTION:Charleston Jewish Federation\nJewish Community Calendar\nhttps:
 //jewishcharleston.org/event-calendar/the-shabbat-project-at-bsbi-16966119
 34\n\nBe a part of an unforgettable Shabbat as we join over 1\,500 Jewish 
 communities around the world for the 10th annual Shabbat Project!
DTSTART;TZID=America/New_York:20231103T180000
DTEND;TZID=America/New_York:20231104T191500
END:VEVENT
END:VCALENDAR
