BEGIN:VCALENDAR
PRODID:-//eluceo/ical//2.0/EN
VERSION:2.0
CALSCALE:GREGORIAN
BEGIN:VEVENT
UID:1c3a188e842f0133a11215d0fc1af823
DTSTAMP:20260422T001334Z
SUMMARY:The Miraculous Story of Bluma & Felix Goldberg
DESCRIPTION:Charleston Jewish Federation\nJewish Community Calendar\nhttps:
 //jewishcharleston.org/event-calendar/the-miraculous-story-of-bluma--felix
 -goldberg-1696433809\n\nJoin CJF&#039\;s REMEMBER Program at the Wando Lib
 rary for this program.  A new book (and website www.StoriesofSurvival.org)
  provides details about the miraculous story of Bluma and Felix Goldberg--
 two young Polish Jews caught up in Hitler&#039\;s Final Solution. How they
  survived--making their way to South Carolina--is a miracle. The book--a g
 raphic novel-- is designed to reach young adults--many of whom are unaware
  of the scope and impact of the Holocaust. Join author Frank Baker for thi
 s presentation ...
DTSTART;TZID=America/New_York:20231109T173000
DTEND;TZID=America/New_York:20231109T200000
END:VEVENT
END:VCALENDAR
