BEGIN:VCALENDAR
PRODID:-//eluceo/ical//2.0/EN
VERSION:2.0
CALSCALE:GREGORIAN
BEGIN:VEVENT
UID:2ad09b036945e9416f0c7f07fda075d4
DTSTAMP:20260426T030048Z
SUMMARY:The Ladies Lounge
DESCRIPTION:Charleston Jewish Federation\nJewish Community Calendar\nhttps:
 //jewishcharleston.org/event-calendar/the-ladies-lounge-1684961779\n\nJoin
  us each month as we experience new things whilst learning about ourselves
  and one another. Please join our Facebook group to rsvp to the events and
  get more information. facebook.com/groups/theladiesloungesc
DTSTART;TZID=America/New_York:20230719T183000
DTEND;TZID=America/New_York:20230719T203000
END:VEVENT
END:VCALENDAR
