BEGIN:VCALENDAR
PRODID:-//eluceo/ical//2.0/EN
VERSION:2.0
CALSCALE:GREGORIAN
BEGIN:VEVENT
UID:6238cd3eb9d00a4e91765cae14753b01
DTSTAMP:20260424T154925Z
SUMMARY:The Ladies Lounge
DESCRIPTION:Charleston Jewish Federation\nJewish Community Calendar\nhttps:
 //jewishcharleston.org/event-calendar/the-ladies-lounge-1660781329\n\nJoin
  us each month as we experience new things whilst learning about ourselves
  and one another. Please join our Facebook group to rsvp to the events and
  get more information. facebook.com/groups/theladiesloungesc
DTSTART;TZID=America/New_York:20230522T183000
DTEND;TZID=America/New_York:20230522T203000
END:VEVENT
END:VCALENDAR
