BEGIN:VCALENDAR
PRODID:-//eluceo/ical//2.0/EN
VERSION:2.0
CALSCALE:GREGORIAN
BEGIN:VEVENT
UID:132434efb75ce97b39c6f4e94ab4e46b
DTSTAMP:20260425T235042Z
SUMMARY:The Ladies Lounge
DESCRIPTION:Charleston Jewish Federation\nJewish Community Calendar\nhttps:
 //jewishcharleston.org/event-calendar/the-ladies-lounge-1660781178\n\nJoin
  us each month as we experience new things whilst learning about ourselves
  and one another. Please join our Facebook group to rsvp to the events and
  get more information. facebook.com/groups/theladiesloungesc
DTSTART;TZID=America/New_York:20230322T183000
DTEND;TZID=America/New_York:20230322T203000
END:VEVENT
END:VCALENDAR
