BEGIN:VCALENDAR
PRODID:-//eluceo/ical//2.0/EN
VERSION:2.0
CALSCALE:GREGORIAN
BEGIN:VEVENT
UID:9a5e47656be046f1c1a57190e468c9ce
DTSTAMP:20260421T220136Z
SUMMARY:The Ladies Lounge - Tevet
DESCRIPTION:Charleston Jewish Federation\nJewish Community Calendar\nhttps:
 //jewishcharleston.org/event-calendar/the-ladies-lounge---tevet-1693316079
 \n\n?✨ Join us as we come together to celebrate the start of each new He
 brew month. Our group is a space for meaningful connections\, insightful d
 iscussions\, and engaging activities that align with the themes and signif
 icance of Rosh Chodesh. Whether you&#039\;re looking to deepen your spirit
 ual connection\, learn more about Jewish traditions\, or simply connect wi
 th like-minded individuals\, this group is open to all. Let&#039\;s mark t
 he beginning of each month with unity\, growth\, and joy. Come join us on.
 ..
DTSTART;TZID=America/New_York:20231214T190000
DTEND;TZID=America/New_York:20231214T200000
END:VEVENT
END:VCALENDAR
