BEGIN:VCALENDAR
PRODID:-//eluceo/ical//2.0/EN
VERSION:2.0
CALSCALE:GREGORIAN
BEGIN:VEVENT
UID:9944e3ebc9c7182a257bf64785c105bb
DTSTAMP:20260419T180739Z
SUMMARY:The Ladies Lounge - Shevat
DESCRIPTION:Charleston Jewish Federation\nJewish Community Calendar\nhttps:
 //jewishcharleston.org/event-calendar/the-ladies-lounge---shevat-169331614
 7\n\n?✨ Join us as we come together to celebrate the start of each new H
 ebrew month. Our group is a space for meaningful connections\, insightful 
 discussions\, and engaging activities that align with the themes and signi
 ficance of Rosh Chodesh. Whether you're looking to deepen your spiritual c
 onnection\, learn more about Jewish traditions\, or simply connect with li
 ke-minded individuals\, this group is open to all. Let's mark the beginnin
 g of each month with unity\, growth\, and joy. Come join us on...
DTSTART;TZID=America/New_York:20240114T140000
DTEND;TZID=America/New_York:20240114T150000
END:VEVENT
END:VCALENDAR
