BEGIN:VCALENDAR
PRODID:-//eluceo/ical//2.0/EN
VERSION:2.0
CALSCALE:GREGORIAN
BEGIN:VEVENT
UID:59af9a8d0707f6c62f7c5355346adf9f
DTSTAMP:20260422T070450Z
SUMMARY:The Ladies Lounge - Adar II
DESCRIPTION:Charleston Jewish Federation\nJewish Community Calendar\nhttps:
 //jewishcharleston.org/event-calendar/the-ladies-lounge---adar-ii-16933162
 70\n\n?✨ Join us as we come together to celebrate the start of each new 
 Hebrew month. Our group is a space for meaningful connections\, insightful
  discussions\, and engaging activities that align with the themes and sign
 ificance of Rosh Chodesh. Whether you&#039\;re looking to deepen your spir
 itual connection\, learn more about Jewish traditions\, or simply connect 
 with like-minded individuals\, this group is open to all. Let&#039\;s mark
  the beginning of each month with unity\, growth\, and joy. Come join us o
 n...
DTSTART;TZID=America/New_York:20240313T190000
DTEND;TZID=America/New_York:20240313T200000
END:VEVENT
END:VCALENDAR
