BEGIN:VCALENDAR
PRODID:-//eluceo/ical//2.0/EN
VERSION:2.0
CALSCALE:GREGORIAN
BEGIN:VEVENT
UID:74f81981338635c9713cc6827dc01d78
DTSTAMP:20260419T131212Z
SUMMARY:The Ladies Lounge - Adar I
DESCRIPTION:Charleston Jewish Federation\nJewish Community Calendar\nhttps:
 //jewishcharleston.org/event-calendar/the-ladies-lounge---adar-i-169331621
 3\n\n?✨ Join us as we come together to celebrate the start of each new H
 ebrew month. Our group is a space for meaningful connections\, insightful 
 discussions\, and engaging activities that align with the themes and signi
 ficance of Rosh Chodesh. Whether you&#039\;re looking to deepen your spiri
 tual connection\, learn more about Jewish traditions\, or simply connect w
 ith like-minded individuals\, this group is open to all. Let&#039\;s mark 
 the beginning of each month with unity\, growth\, and joy. Come join us on
 ...
DTSTART;TZID=America/New_York:20240211T190000
DTEND;TZID=America/New_York:20240211T200000
END:VEVENT
END:VCALENDAR
