BEGIN:VCALENDAR
PRODID:-//eluceo/ical//2.0/EN
VERSION:2.0
CALSCALE:GREGORIAN
BEGIN:VEVENT
UID:1f8869ed89430b253024e5a5bc0b8ad0
DTSTAMP:20260421T063911Z
SUMMARY:Synagogue Emanu-El Wine & Cheese followed by services
DESCRIPTION:Charleston Jewish Federation\nJewish Community Calendar\nhttps:
 //jewishcharleston.org/event-calendar/synagogue-emanu-el-wine--cheese-foll
 owed-by-services-1697659558\n\nJoin us for wine & cheese followed by Kabba
 lat Shabbat Services
DTSTART;TZID=America/New_York:20231103T180000
DTEND;TZID=America/New_York:20231103T200000
END:VEVENT
END:VCALENDAR
