BEGIN:VCALENDAR
PRODID:-//eluceo/ical//2.0/EN
VERSION:2.0
CALSCALE:GREGORIAN
BEGIN:VEVENT
UID:39ed9cbce3c89f06619ee47e6db1062c
DTSTAMP:20260424T111434Z
SUMMARY:Synagogue Emanu-El Wine & Cheese and Shabbat Services
DESCRIPTION:Charleston Jewish Federation\nJewish Community Calendar\nhttps:
 //jewishcharleston.org/event-calendar/synagogue-emanu-el-wine--cheese-and-
 shabbat-services-1704399064\n\nSynagogue Emanu-El Wine & Cheese and Shabba
 t Services
DTSTART;TZID=America/New_York:20240202T180000
DTEND;TZID=America/New_York:20240202T190000
END:VEVENT
END:VCALENDAR
