BEGIN:VCALENDAR
PRODID:-//eluceo/ical//2.0/EN
VERSION:2.0
CALSCALE:GREGORIAN
BEGIN:VEVENT
UID:af2c21840191cccc743b3fef50cbc5f9
DTSTAMP:20260422T043407Z
SUMMARY:Synagogue Emanu-El Tikkun Olam at Neighbors Together
DESCRIPTION:Charleston Jewish Federation\nJewish Community Calendar\nhttps:
 //jewishcharleston.org/event-calendar/synagogue-emanu-el-tikkun-olam-at-ne
 ighbors-together-1697659976\n\nSynagogue Emanu-El Tikkun Olam at Neighbors
  Together
DTSTART;TZID=America/New_York:20231115T100000
DTEND;TZID=America/New_York:20231115T120000
END:VEVENT
END:VCALENDAR
