BEGIN:VCALENDAR
PRODID:-//eluceo/ical//2.0/EN
VERSION:2.0
CALSCALE:GREGORIAN
BEGIN:VEVENT
UID:761eb38041e381819079bdde264da28e
DTSTAMP:20260422T101652Z
SUMMARY:Synagogue Emanu-El Tikkun Olam at Neighbors Together
DESCRIPTION:Charleston Jewish Federation\nJewish Community Calendar\nhttps:
 //jewishcharleston.org/event-calendar/synagogue-emanu-el-tikkun-olam-at-ne
 ighbors-together-1687457072\n\nSynagogue Emanu-El Tikkun Olam at Neighbors
  Together
DTSTART;TZID=America/New_York:20230816T100000
DTEND;TZID=America/New_York:20230816T120000
END:VEVENT
END:VCALENDAR
