BEGIN:VCALENDAR
PRODID:-//eluceo/ical//2.0/EN
VERSION:2.0
CALSCALE:GREGORIAN
BEGIN:VEVENT
UID:2267683210a2cbb67bcd7ce182457f1f
DTSTAMP:20260421T063906Z
SUMMARY:Synagogue Emanu-El Sisterhood Torah Fund
DESCRIPTION:Charleston Jewish Federation\nJewish Community Calendar\nhttps:
 //jewishcharleston.org/event-calendar/synagogue-emanu-el-sisterhood-torah-
 fund-1697659694\n\nSynagogue Emanu-El Sisterhood Torah Fund
DTSTART;TZID=America/New_York:20231105T103000
DTEND;TZID=America/New_York:20231105T120000
END:VEVENT
END:VCALENDAR
