BEGIN:VCALENDAR
PRODID:-//eluceo/ical//2.0/EN
VERSION:2.0
CALSCALE:GREGORIAN
BEGIN:VEVENT
UID:cba4156243f0b45d7d363c411ae15e49
DTSTAMP:20260423T055047Z
SUMMARY:Synagogue Emanu-El Sisterhood Mah Jongg Event
DESCRIPTION:Charleston Jewish Federation\nJewish Community Calendar\nhttps:
 //jewishcharleston.org/event-calendar/synagogue-emanu-el-sisterhood-mah-jo
 ngg-event-1687457458\n\nSynagogue Emanu-El Sisterhood Mah Jongg Event
DTSTART;TZID=America/New_York:20230830T190000
DTEND;TZID=America/New_York:20230830T210000
END:VEVENT
END:VCALENDAR
