BEGIN:VCALENDAR
PRODID:-//eluceo/ical//2.0/EN
VERSION:2.0
CALSCALE:GREGORIAN
BEGIN:VEVENT
UID:0a0e3064c37c5f831369ca03742bf1ed
DTSTAMP:20260420T040210Z
SUMMARY:Synagogue Emanu-El Sisterhood Book Club
DESCRIPTION:Charleston Jewish Federation\nJewish Community Calendar\nhttps:
 //jewishcharleston.org/event-calendar/synagogue-emanu-el-sisterhood-book-c
 lub-1693246301\n\nSynagogue Emanu-El Sisterhood Book Club
DTSTART;TZID=America/New_York:20231220T191500
DTEND;TZID=America/New_York:20231220T201500
END:VEVENT
END:VCALENDAR
