BEGIN:VCALENDAR
PRODID:-//eluceo/ical//2.0/EN
VERSION:2.0
CALSCALE:GREGORIAN
BEGIN:VEVENT
UID:0751a2e78872f1c3ffa31e38db82f835
DTSTAMP:20260421T044809Z
SUMMARY:Synagogue Emanu-El Sisterhood Book Club
DESCRIPTION:Charleston Jewish Federation\nJewish Community Calendar\nhttps:
 //jewishcharleston.org/event-calendar/synagogue-emanu-el-sisterhood-book-c
 lub-1693246240\n\nSynagogue Emanu-El Sisterhood Book Club
DTSTART;TZID=America/New_York:20231115T191500
DTEND;TZID=America/New_York:20231115T201500
END:VEVENT
END:VCALENDAR
