BEGIN:VCALENDAR
PRODID:-//eluceo/ical//2.0/EN
VERSION:2.0
CALSCALE:GREGORIAN
BEGIN:VEVENT
UID:455125fdfaf2196fb43781326885d1e0
DTSTAMP:20260423T055042Z
SUMMARY:Synagogue Emanu-El Sisterhood Book Club
DESCRIPTION:Charleston Jewish Federation\nJewish Community Calendar\nhttps:
 //jewishcharleston.org/event-calendar/synagogue-emanu-el-sisterhood-book-c
 lub-1687456974\n\nSynagogue Emanu-El Sisterhood Book Club
DTSTART;TZID=America/New_York:20230816T191500
DTEND;TZID=America/New_York:20230816T211500
END:VEVENT
END:VCALENDAR
