BEGIN:VCALENDAR
PRODID:-//eluceo/ical//2.0/EN
VERSION:2.0
CALSCALE:GREGORIAN
BEGIN:VEVENT
UID:cd32f5f9eae01d898c4001aa747e883a
DTSTAMP:20260422T081212Z
SUMMARY:Synagogue Emanu-El Shabbat Services at the Beach
DESCRIPTION:Charleston Jewish Federation\nJewish Community Calendar\nhttps:
 //jewishcharleston.org/event-calendar/synagogue-emanu-el-shabbat-services-
 at-the-beach-1687456633\n\nThe fun begins at 4PM at the Isle of Palms Coun
 ty Park We will welcome Shabbat together at 6pm with Kabbalat Shabbat serv
 ices
DTSTART;TZID=America/New_York:20230804T180000
DTEND;TZID=America/New_York:20230804T200000
END:VEVENT
END:VCALENDAR
