BEGIN:VCALENDAR
PRODID:-//eluceo/ical//2.0/EN
VERSION:2.0
CALSCALE:GREGORIAN
BEGIN:VEVENT
UID:4c6a3ba290c441d971272856da64325c
DTSTAMP:20260420T014458Z
SUMMARY:Synagogue Emanu-El Shabbat Services
DESCRIPTION:Charleston Jewish Federation\nJewish Community Calendar\nhttps:
 //jewishcharleston.org/event-calendar/synagogue-emanu-el-shabbat-services-
 1707771410\n\nSynagogue Emanu-El Shabbat Services
DTSTART;TZID=America/New_York:20240330T093000
DTEND;TZID=America/New_York:20240330T123000
END:VEVENT
END:VCALENDAR
