BEGIN:VCALENDAR
PRODID:-//eluceo/ical//2.0/EN
VERSION:2.0
CALSCALE:GREGORIAN
BEGIN:VEVENT
UID:e4fbb6bf7d7510c4a8a04c3a69433fe0
DTSTAMP:20260424T124915Z
SUMMARY:Synagogue Emanu-El Shabbat Services
DESCRIPTION:Charleston Jewish Federation\nJewish Community Calendar\nhttps:
 //jewishcharleston.org/event-calendar/synagogue-emanu-el-shabbat-services-
 1707770975\n\nSynagogue Emanu-El Shabbat Services
DTSTART;TZID=America/New_York:20240316T093000
DTEND;TZID=America/New_York:20240316T123000
END:VEVENT
END:VCALENDAR
