BEGIN:VCALENDAR
PRODID:-//eluceo/ical//2.0/EN
VERSION:2.0
CALSCALE:GREGORIAN
BEGIN:VEVENT
UID:b6083d023c8b895892f7b560b7a29801
DTSTAMP:20260422T131826Z
SUMMARY:Synagogue Emanu-El Shabbat Services
DESCRIPTION:Charleston Jewish Federation\nJewish Community Calendar\nhttps:
 //jewishcharleston.org/event-calendar/synagogue-emanu-el-shabbat-services-
 1697660221\n\nSynagogue Emanu-El Shabbat Services
DTSTART;TZID=America/New_York:20231125T093000
DTEND;TZID=America/New_York:20231125T130000
END:VEVENT
END:VCALENDAR
