BEGIN:VCALENDAR
PRODID:-//eluceo/ical//2.0/EN
VERSION:2.0
CALSCALE:GREGORIAN
BEGIN:VEVENT
UID:da2e25b1226a0af1d9cc6fbeaeeba41e
DTSTAMP:20260422T073830Z
SUMMARY:Synagogue Emanu-El Shabbat Services
DESCRIPTION:Charleston Jewish Federation\nJewish Community Calendar\nhttps:
 //jewishcharleston.org/event-calendar/synagogue-emanu-el-shabbat-services-
 1687456856\n\nSynagogue Emanu-El Shabbat Services
DTSTART;TZID=America/New_York:20230812T093000
DTEND;TZID=America/New_York:20230812T120000
END:VEVENT
END:VCALENDAR
