BEGIN:VCALENDAR
PRODID:-//eluceo/ical//2.0/EN
VERSION:2.0
CALSCALE:GREGORIAN
BEGIN:VEVENT
UID:cc753ea77c799303e297279607e53324
DTSTAMP:20260422T201913Z
SUMMARY:Synagogue Emanu-El Shabbat Services
DESCRIPTION:Charleston Jewish Federation\nJewish Community Calendar\nhttps:
 //jewishcharleston.org/event-calendar/synagogue-emanu-el-shabbat-services-
 1687369033\n\nSynagogue Emanu-El Shabbat Services
DTSTART;TZID=America/New_York:20230729T093000
DTEND;TZID=America/New_York:20230729T120000
END:VEVENT
END:VCALENDAR
