BEGIN:VCALENDAR
PRODID:-//eluceo/ical//2.0/EN
VERSION:2.0
CALSCALE:GREGORIAN
BEGIN:VEVENT
UID:c2b1c90d4964232d45939e5dbcd755db
DTSTAMP:20260421T101347Z
SUMMARY:Synagogue Emanu-El Shabbat Services & Men's Club Veterans day Celeb
 ration
DESCRIPTION:Charleston Jewish Federation\nJewish Community Calendar\nhttps:
 //jewishcharleston.org/event-calendar/synagogue-emanu-el-shabbat-services-
 -mens-club-veterans-day-celebration-1697659845\n\nSynagogue Emanu-El Shabb
 at Services with Men&#039\;s Club Veterans day Celebration
DTSTART;TZID=America/New_York:20231111T093000
DTEND;TZID=America/New_York:20231111T130000
END:VEVENT
END:VCALENDAR
