BEGIN:VCALENDAR
PRODID:-//eluceo/ical//2.0/EN
VERSION:2.0
CALSCALE:GREGORIAN
BEGIN:VEVENT
UID:c9620b7b6fc6f935a90c7585a4be0ff8
DTSTAMP:20260421T230308Z
SUMMARY:Synagogue Emanu-El Shabbat Services & Bat Mitzvah of Mya Anspach
DESCRIPTION:Charleston Jewish Federation\nJewish Community Calendar\nhttps:
 //jewishcharleston.org/event-calendar/synagogue-emanu-el-shabbat-services-
 -bat-mitzvah-of-mya-anspach-1741205588\n\nSynagogue Emanu-El Shabbat Servi
 ces & Bat Mitzvah of Mya Anspach
DTSTART;TZID=America/New_York:20280902T093000
DTEND;TZID=America/New_York:20280902T120000
END:VEVENT
END:VCALENDAR
