BEGIN:VCALENDAR
PRODID:-//eluceo/ical//2.0/EN
VERSION:2.0
CALSCALE:GREGORIAN
BEGIN:VEVENT
UID:10f102e04342fc188b31d95df10ec7a8
DTSTAMP:20260425T165952Z
SUMMARY:Synagogue Emanu-El Men's Club World Wide Wrap
DESCRIPTION:Charleston Jewish Federation\nJewish Community Calendar\nhttps:
 //jewishcharleston.org/event-calendar/synagogue-emanu-el-mens-club-world-w
 ide-wrap-1675187805\n\nSynagogue Emanu-El Men&#039\;s Club World Wide Wrap
DTSTART;TZID=America/New_York:20230212T090000
DTEND;TZID=America/New_York:20230212T110000
END:VEVENT
END:VCALENDAR
