BEGIN:VCALENDAR
PRODID:-//eluceo/ical//2.0/EN
VERSION:2.0
CALSCALE:GREGORIAN
BEGIN:VEVENT
UID:83a3ee479c9da1487c8258557397af50
DTSTAMP:20260423T235156Z
SUMMARY:Synagogue Emanu-El Men's Club Stag Night
DESCRIPTION:Charleston Jewish Federation\nJewish Community Calendar\nhttps:
 //jewishcharleston.org/event-calendar/synagogue-emanu-el-mens-club-stag-ni
 ght-1663876548\n\nSynagogue Emanu-El Men&#039\;s Club Stag Night
DTSTART;TZID=America/New_York:20230510T180000
DTEND;TZID=America/New_York:20230510T230000
END:VEVENT
END:VCALENDAR
