BEGIN:VCALENDAR
PRODID:-//eluceo/ical//2.0/EN
VERSION:2.0
CALSCALE:GREGORIAN
BEGIN:VEVENT
UID:92a4acbb6a334484f24d2f6b83e88e1b
DTSTAMP:20260422T101551Z
SUMMARY:Synagogue Emanu-El Kabbalat Shabbat Services and Shabbat Dinner
DESCRIPTION:Charleston Jewish Federation\nJewish Community Calendar\nhttps:
 //jewishcharleston.org/event-calendar/synagogue-emanu-el-kabbalat-shabbat-
 services-and-shabbat-dinner-1687457264\n\nSynagogue Emanu-El Kabbalat Shab
 bat Services and Shabbat Dinner
DTSTART;TZID=America/New_York:20230825T180000
DTEND;TZID=America/New_York:20230825T210000
END:VEVENT
END:VCALENDAR
