BEGIN:VCALENDAR
PRODID:-//eluceo/ical//2.0/EN
VERSION:2.0
CALSCALE:GREGORIAN
BEGIN:VEVENT
UID:1aa50e8b3586e2a193f1566043b18793
DTSTAMP:20260421T101350Z
SUMMARY:Synagogue Emanu-El Kabbalat Shabbat Services and FNL Shabbat Dinner
DESCRIPTION:Charleston Jewish Federation\nJewish Community Calendar\nhttps:
 //jewishcharleston.org/event-calendar/synagogue-emanu-el-kabbalat-shabbat-
 services-and-fnl-shabbat-dinner-1697660057\n\nSynagogue Emanu-El Kabbalat 
 Shabbat Services and FNL Shabbat Dinner
DTSTART;TZID=America/New_York:20231117T180000
DTEND;TZID=America/New_York:20231117T200000
END:VEVENT
END:VCALENDAR
