BEGIN:VCALENDAR
PRODID:-//eluceo/ical//2.0/EN
VERSION:2.0
CALSCALE:GREGORIAN
BEGIN:VEVENT
UID:336dce2aa2e311e7f05b15db474089ea
DTSTAMP:20260421T063916Z
SUMMARY:Synagogue Emanu-El Kabbalat Shabbat Services
DESCRIPTION:Charleston Jewish Federation\nJewish Community Calendar\nhttps:
 //jewishcharleston.org/event-calendar/synagogue-emanu-el-kabbalat-shabbat-
 services-1697660174\n\nSynagogue Emanu-El Kabbalat Shabbat Services
DTSTART;TZID=America/New_York:20231124T180000
DTEND;TZID=America/New_York:20231124T200000
END:VEVENT
END:VCALENDAR
