BEGIN:VCALENDAR
PRODID:-//eluceo/ical//2.0/EN
VERSION:2.0
CALSCALE:GREGORIAN
BEGIN:VEVENT
UID:bf61137417a82726b56056e912199270
DTSTAMP:20260422T082439Z
SUMMARY:Synagogue Emanu-El Israel Trip Information Night
DESCRIPTION:Charleston Jewish Federation\nJewish Community Calendar\nhttps:
 //jewishcharleston.org/event-calendar/synagogue-emanu-el-israel-trip-infor
 mation-night-1697659919\n\nSynagogue Emanu-El Israel Trip Information Nigh
 t
DTSTART;TZID=America/New_York:20231114T180000
DTEND;TZID=America/New_York:20231114T200000
END:VEVENT
END:VCALENDAR
