BEGIN:VCALENDAR
PRODID:-//eluceo/ical//2.0/EN
VERSION:2.0
CALSCALE:GREGORIAN
BEGIN:VEVENT
UID:4a679f1d8f63a554b7f28105088d622e
DTSTAMP:20260419T225148Z
SUMMARY:Synagogue Emanu-El FNL Shabbat Services & Dinner
DESCRIPTION:Charleston Jewish Federation\nJewish Community Calendar\nhttps:
 //jewishcharleston.org/event-calendar/synagogue-emanu-el-fnl-shabbat-servi
 ces--dinner-1707770925\n\nSynagogue Emanu-El FNL Shabbat Services & Dinner
DTSTART;TZID=America/New_York:20240315T180000
DTEND;TZID=America/New_York:20240315T210000
END:VEVENT
END:VCALENDAR
