BEGIN:VCALENDAR
PRODID:-//eluceo/ical//2.0/EN
VERSION:2.0
CALSCALE:GREGORIAN
BEGIN:VEVENT
UID:43a41aa935da31d13e42f5c208485780
DTSTAMP:20260425T114016Z
SUMMARY:Synagogue Emanu-El FNL Shabbat Services & Dinner
DESCRIPTION:Charleston Jewish Federation\nJewish Community Calendar\nhttps:
 //jewishcharleston.org/event-calendar/synagogue-emanu-el-fnl-shabbat-servi
 ces--dinner-1673473308\n\nSynagogue Emanu-El FNL Shabbat Services & Dinner
DTSTART;TZID=America/New_York:20230217T180000
DTEND;TZID=America/New_York:20230217T203000
END:VEVENT
END:VCALENDAR
