BEGIN:VCALENDAR
PRODID:-//eluceo/ical//2.0/EN
VERSION:2.0
CALSCALE:GREGORIAN
BEGIN:VEVENT
UID:06e47b176b9d9d468259761e0b2f62f8
DTSTAMP:20260422T044053Z
SUMMARY:Stand Up Comedy with Yossi Tarablus
DESCRIPTION:Charleston Jewish Federation\nJewish Community Calendar\nhttps:
 //jewishcharleston.org/event-calendar/stand-up-comedy-with-yossi-tarablus-
 1698091806\n\nRegister at bit.ly/tarabluscomedy2023
DTSTART;TZID=America/New_York:20231128T193000
DTEND;TZID=America/New_York:20231128T203000
END:VEVENT
END:VCALENDAR
