BEGIN:VCALENDAR
PRODID:-//eluceo/ical//2.0/EN
VERSION:2.0
CALSCALE:GREGORIAN
BEGIN:VEVENT
UID:81e2242333fd583a30734b39ee1c36a7
DTSTAMP:20260421T230258Z
SUMMARY:Shabbat Services at Synagogue Emanu-El and the Bar Mitzvah of Mason
  Segal
DESCRIPTION:Charleston Jewish Federation\nJewish Community Calendar\nhttps:
 //jewishcharleston.org/event-calendar/shabbat-services-at-synagogue-emanu-
 el-and-the-bar-mitzvah-of-mason-segal-1641399644\n\nShabbat Services at Sy
 nagogue Emanu-El and the Bar Mitzvah of Mason Segal
DTSTART;TZID=America/New_York:20230819T093000
DTEND;TZID=America/New_York:20230819T130000
END:VEVENT
END:VCALENDAR
