BEGIN:VCALENDAR
PRODID:-//eluceo/ical//2.0/EN
VERSION:2.0
CALSCALE:GREGORIAN
BEGIN:VEVENT
UID:43a0dd9f045cca541d9ba7e8ca2f5703
DTSTAMP:20260425T231540Z
SUMMARY:Shabbat Dinner at BSBI
DESCRIPTION:Charleston Jewish Federation\nJewish Community Calendar\nhttps:
 //jewishcharleston.org/event-calendar/shabbat-dinner-at-bsbi-1675196512\n\
 nShabbat Dinner at BSBI on Friday\, February 24 at 6:45 PM. Sponsorship do
 nations go towards the upcoming Israel trip for Addlestone Hebrew Academy&
 #39\;s 7th and 8th grade class. RSVP Today!\n$40/adult\, $20/child\, free 
 under 6\nhousehold maximum $100\nSponsorships in honor of AHA&#39\;s 7th a
 nd 8th graders - bronze sponsor $180\, silver sponsor $250\, gold sponsor 
 $360.
DTSTART;TZID=America/New_York:20230224T184500
DTEND;TZID=America/New_York:20230224T204500
END:VEVENT
END:VCALENDAR
