BEGIN:VCALENDAR
PRODID:-//eluceo/ical//2.0/EN
VERSION:2.0
CALSCALE:GREGORIAN
BEGIN:VEVENT
UID:59c0a464687aff99b77ff7454d6e4a8c
DTSTAMP:20260425T222826Z
SUMMARY:SCN Traveler Safety & Security Best Practices
DESCRIPTION:Charleston Jewish Federation\nJewish Community Calendar\nhttps:
 //jewishcharleston.org/event-calendar/scn-traveler-safety-security-best-pr
 actices\n\nRsvp at bit.ly/scntravelsc
DTSTART;TZID=America/New_York:20230613T190000
DTEND;TZID=America/New_York:20230613T203000
END:VEVENT
END:VCALENDAR
