BEGIN:VCALENDAR
PRODID:-//eluceo/ical//2.0/EN
VERSION:2.0
CALSCALE:GREGORIAN
BEGIN:VEVENT
UID:a1d5d35da7afc21da2ab77ae3fa53d4e
DTSTAMP:20260426T020609Z
SUMMARY:Russia’s Army and the Commission of Atrocities with Professor Dav
 id Frey
DESCRIPTION:Charleston Jewish Federation\nJewish Community Calendar\nhttps:
 //jewishcharleston.org/event-calendar/russias-army-and-the-commission-of-a
 trocities-with-professor-david-frey-1673973549\n\nToday’s news is awash 
 in reports of atrocities committed by Russia’s Army in Ukraine. Since Fe
 bruary 2021\, coverage of targeted killings\, rape\, and the deliberate de
 struction of civilian homes has come to dominate our front pages. West Poi
 nt Professor David Frey will discuss why Putin’s armed forces are prone 
 to the commission of such crimes and how atrocity became the Russian way o
 f war. This event is a first co-sponsorship of the Zucker/Goldberg Center 
 for Holocaust Studies and the Ci...
DTSTART;TZID=America/New_York:20230228T160000
DTEND;TZID=America/New_York:20230228T173000
END:VEVENT
END:VCALENDAR
