BEGIN:VCALENDAR
PRODID:-//eluceo/ical//2.0/EN
VERSION:2.0
CALSCALE:GREGORIAN
BEGIN:VEVENT
UID:180a2cbfce45c8af262e9952bb448a25
DTSTAMP:20260423T050152Z
SUMMARY:ROFL with YJC
DESCRIPTION:Charleston Jewish Federation\nJewish Community Calendar\nhttps:
 //jewishcharleston.org/event-calendar/rofl-with-yjc\n\nNeed a break from d
 oom scrolling? Join us on Nov 29th at 8:00 PM (meet at 7:30 to grab drinks
  and seats) for a night of laughter\, camaraderie\, and good vibes at Thea
 ter99! Let&#39\;s come together\, share some smiles\, and enjoy a much-nee
 ded escape. Laughter is the best medicine\, and we could all use a dose ri
 ght now! \n\nWant a free ticket? The first 10 people to fill out this su
 rvey will receive a complimentary ticket for the event. You can also purc
 hase your ticket through the Theater 99 web...
DTSTART;TZID=America/New_York:20231129T193000
DTEND;TZID=America/New_York:20231129T220000
END:VEVENT
END:VCALENDAR
