BEGIN:VCALENDAR
PRODID:-//eluceo/ical//2.0/EN
VERSION:2.0
CALSCALE:GREGORIAN
BEGIN:VEVENT
UID:9856129a377b480a07e1c383176a1e75
DTSTAMP:20260425T004514Z
SUMMARY:PJITP - Oak Terrace
DESCRIPTION:Charleston Jewish Federation\nJewish Community Calendar\nhttps:
 //jewishcharleston.org/event-calendar/pjitp---oak-terrace-1677702673\n\nJo
 in PJ Library for our monthly playdate
DTSTART;TZID=America/New_York:20230326T100000
DTEND;TZID=America/New_York:20230326T120000
END:VEVENT
END:VCALENDAR
