BEGIN:VCALENDAR
PRODID:-//eluceo/ical//2.0/EN
VERSION:2.0
CALSCALE:GREGORIAN
BEGIN:VEVENT
UID:588ac8cb06df1d4c3c09cae9a81557ef
DTSTAMP:20260425T114202Z
SUMMARY:Not Your Bubbie's Shakshuka
DESCRIPTION:Charleston Jewish Federation\nJewish Community Calendar\nhttps:
 //jewishcharleston.org/event-calendar/not-your-bubbies-shakshuka-166153807
 3\n\nJoin us at Dor Tikvah for an outstanding evening at our annual fundra
 iser and find out which culinary taste is best! This unique event brings t
 ogether some of the finest home chefs in town for an upscale cooking compe
 tition featuring traditional Ashkenazi and Sephardi foods with a modern fl
 are.Details and registration will be available at www.dortikvah.org/event/
 NYBS23
DTSTART;TZID=America/New_York:20230226T173000
DTEND;TZID=America/New_York:20230226T200000
END:VEVENT
END:VCALENDAR
