BEGIN:VCALENDAR
PRODID:-//eluceo/ical//2.0/EN
VERSION:2.0
CALSCALE:GREGORIAN
BEGIN:VEVENT
UID:ce43eb779a19d29399aebfba1ca96545
DTSTAMP:20260421T230303Z
SUMMARY:Newish and Jewish Happy Hour with Young Jewish Charleston
DESCRIPTION:Charleston Jewish Federation\nJewish Community Calendar\nhttps:
 //jewishcharleston.org/event-calendar/newish-and-jewish-happy-hour-with-yo
 ung-jewish-charleston\n\nMore details coming soon. 
DTSTART;TZID=America/New_York:20230817T180000
DTEND;TZID=America/New_York:20230817T200000
END:VEVENT
END:VCALENDAR
